BEGIN:VCALENDAR
VERSION:2.0
PRODID:-//Southern Loss Association, Inc. - ECPv6.15.20//NONSGML v1.0//EN
CALSCALE:GREGORIAN
METHOD:PUBLISH
X-ORIGINAL-URL:https://southernloss.com
X-WR-CALDESC:Events for Southern Loss Association, Inc.
REFRESH-INTERVAL;VALUE=DURATION:PT1H
X-Robots-Tag:noindex
X-PUBLISHED-TTL:PT1H
BEGIN:VTIMEZONE
TZID:America/New_York
BEGIN:DAYLIGHT
TZOFFSETFROM:-0500
TZOFFSETTO:-0400
TZNAME:EDT
DTSTART:20240310T070000
END:DAYLIGHT
BEGIN:STANDARD
TZOFFSETFROM:-0400
TZOFFSETTO:-0500
TZNAME:EST
DTSTART:20241103T060000
END:STANDARD
BEGIN:DAYLIGHT
TZOFFSETFROM:-0500
TZOFFSETTO:-0400
TZNAME:EDT
DTSTART:20250309T070000
END:DAYLIGHT
BEGIN:STANDARD
TZOFFSETFROM:-0400
TZOFFSETTO:-0500
TZNAME:EST
DTSTART:20251102T060000
END:STANDARD
BEGIN:DAYLIGHT
TZOFFSETFROM:-0500
TZOFFSETTO:-0400
TZNAME:EDT
DTSTART:20260308T070000
END:DAYLIGHT
BEGIN:STANDARD
TZOFFSETFROM:-0400
TZOFFSETTO:-0500
TZNAME:EST
DTSTART:20261101T060000
END:STANDARD
END:VTIMEZONE
BEGIN:VEVENT
DTSTART;TZID=America/New_York:20251113T110000
DTEND;TZID=America/New_York:20251113T130000
DTSTAMP:20260420T041142
CREATED:20250815T222300Z
LAST-MODIFIED:20251104T165152Z
UID:3825-1763031600-1763038800@southernloss.com
SUMMARY:November 2025 Luncheon
DESCRIPTION:Join the Southern Loss Association for our November 13\, 2025 Luncheon. \nRegistration opens at 11:00 am\, and lunch begins at 11:30 am. \nPlease register by Noon on Tuesday\, November 11\, 2025. \nOur speaker this month will be Mary Baird with Homelink. \nThe title of her presentation is: \n“Fair Rental Value”  \nThe presentation will qualify for one hour of CE credit for GA. \nHomelink is graciously sponsoring the lunch. \nRegister Here! \nPayment is required at the time of registration. \n$35.00 | Non-Member/Sponsor\n$20.00 | SLA Associate Member\n$10.00 | SLA Full Member \nWalk-ins are not guaranteed a seat. \nQuestions? Contact Susan Freeman at southernloss@gmail.com
URL:https://southernloss.com/event/november-2025-luncheon/
LOCATION:Cabernet Steakhouse\, 5575 Windward Pkwy\, Alpharetta\, GA\, 30004\, United States
CATEGORIES:SLA Event
ORGANIZER;CN="Susan Freeman":MAILTO:southernloss@gmail.com
END:VEVENT
END:VCALENDAR