BEGIN:VCALENDAR
VERSION:2.0
PRODID:-//Southern Loss Association, Inc. - ECPv6.15.20//NONSGML v1.0//EN
CALSCALE:GREGORIAN
METHOD:PUBLISH
X-WR-CALNAME:Southern Loss Association, Inc.
X-ORIGINAL-URL:https://southernloss.com
X-WR-CALDESC:Events for Southern Loss Association, Inc.
REFRESH-INTERVAL;VALUE=DURATION:PT1H
X-Robots-Tag:noindex
X-PUBLISHED-TTL:PT1H
BEGIN:VTIMEZONE
TZID:America/New_York
BEGIN:DAYLIGHT
TZOFFSETFROM:-0500
TZOFFSETTO:-0400
TZNAME:EDT
DTSTART:20230312T070000
END:DAYLIGHT
BEGIN:STANDARD
TZOFFSETFROM:-0400
TZOFFSETTO:-0500
TZNAME:EST
DTSTART:20231105T060000
END:STANDARD
BEGIN:DAYLIGHT
TZOFFSETFROM:-0500
TZOFFSETTO:-0400
TZNAME:EDT
DTSTART:20240310T070000
END:DAYLIGHT
BEGIN:STANDARD
TZOFFSETFROM:-0400
TZOFFSETTO:-0500
TZNAME:EST
DTSTART:20241103T060000
END:STANDARD
BEGIN:DAYLIGHT
TZOFFSETFROM:-0500
TZOFFSETTO:-0400
TZNAME:EDT
DTSTART:20250309T070000
END:DAYLIGHT
BEGIN:STANDARD
TZOFFSETFROM:-0400
TZOFFSETTO:-0500
TZNAME:EST
DTSTART:20251102T060000
END:STANDARD
END:VTIMEZONE
BEGIN:VEVENT
DTSTART;TZID=America/New_York:20241017T113000
DTEND;TZID=America/New_York:20241017T200000
DTSTAMP:20260423T000213
CREATED:20240805T140916Z
LAST-MODIFIED:20241009T201427Z
UID:3512-1729164600-1729195200@southernloss.com
SUMMARY:2024 Fall Golf and Cornhole Outing
DESCRIPTION:Join us for the Southern Loss Association Fall 2024 Golf and Cornhole Outing \nThe Château Élan Golf Club \n6060 Golf Club Dr\, Braselton\, GA 30517 \nOct 17\, 2024 11:30am – 8:00pm \n  \nWe recommend golfers arrive at the Chateau Elan Golf Club House at 10:00 a.m. to allow time for registration. The Tournament will use a four-person scramble format. \nGolf begins at 11:30 a.m. \nCornhole begins at 1:00 p.m. \nDinner at 6:00 p.m. \nDinner (per person) $50.00 \nGolf and cornhole are sold out\, but dinner reservations are still available. Please feel free to register your spouse or another guest. Cocktails will be served from 5:00 p.m. until dinner at 6:00 p.m. at the driving range. Awards and prizes will be presented immediately after dinner. \nALL payments can be processed through PayPal at the time of registration. \nGolf and Dinner Registration: \nSusan Freeman \nPO Box 791\, Bremen\, GA 30110 \nPhone 678-449-8416 \nEmail sfreeman@haagglobal.com \n  \nCornhole Registration information contact: \nVance Dawson @ (470) 774-1136 \nvance.dawson@act.claims
URL:https://southernloss.com/event/2024-fall-golf-and-cornhole-outing/
LOCATION:Chateau Elan Resort\, 6060 Golf Club Drive\, Braselton\, GA\, 30517\, United States
CATEGORIES:SLA Event
ORGANIZER;CN="Susan Freeman":MAILTO:southernloss@gmail.com
END:VEVENT
END:VCALENDAR