BEGIN:VCALENDAR
VERSION:2.0
PRODID:-//Southern Loss Association, Inc. - ECPv6.15.20//NONSGML v1.0//EN
CALSCALE:GREGORIAN
METHOD:PUBLISH
X-ORIGINAL-URL:https://southernloss.com
X-WR-CALDESC:Events for Southern Loss Association, Inc.
REFRESH-INTERVAL;VALUE=DURATION:PT1H
X-Robots-Tag:noindex
X-PUBLISHED-TTL:PT1H
BEGIN:VTIMEZONE
TZID:America/New_York
BEGIN:DAYLIGHT
TZOFFSETFROM:-0500
TZOFFSETTO:-0400
TZNAME:EDT
DTSTART:20230312T070000
END:DAYLIGHT
BEGIN:STANDARD
TZOFFSETFROM:-0400
TZOFFSETTO:-0500
TZNAME:EST
DTSTART:20231105T060000
END:STANDARD
BEGIN:DAYLIGHT
TZOFFSETFROM:-0500
TZOFFSETTO:-0400
TZNAME:EDT
DTSTART:20240310T070000
END:DAYLIGHT
BEGIN:STANDARD
TZOFFSETFROM:-0400
TZOFFSETTO:-0500
TZNAME:EST
DTSTART:20241103T060000
END:STANDARD
BEGIN:DAYLIGHT
TZOFFSETFROM:-0500
TZOFFSETTO:-0400
TZNAME:EDT
DTSTART:20250309T070000
END:DAYLIGHT
BEGIN:STANDARD
TZOFFSETFROM:-0400
TZOFFSETTO:-0500
TZNAME:EST
DTSTART:20251102T060000
END:STANDARD
END:VTIMEZONE
BEGIN:VEVENT
DTSTART;TZID=America/New_York:20240111T110000
DTEND;TZID=America/New_York:20240111T130000
DTSTAMP:20260423T134733
CREATED:20231002T221020Z
LAST-MODIFIED:20231229T172936Z
UID:3265-1704970800-1704978000@southernloss.com
SUMMARY:January 2024 Luncheon
DESCRIPTION:The Southern Loss Association cordially invites you to attend our January Luncheon on Thursday\, January 11\, 2024\, at the Cabernet Steakhouse Restaurant. \nKeith Seiffert\, CPA\, CFE\, and Rachel Young\, CPA\, CFE\, with Pario Forensic Account will be presenting “Hidden Power of Forensic Accounting” \nThe presentation will quality for one hour of CE credit for GA and AL. \nRegistration opens at 11:00 am and lunch begins at 11:30 am. Please make your reservations by noon on Tuesday\, January 9\, 2024 \nPlease note that payment is required at the time of registration. Walk-ins are not guaranteed a seat. We hope to see you at the luncheon! \nRegister Now! \nPayment is required at the time of registration. \n$35.00 | Non-Member/Sponsor \n$20.00 | SLA Associate Member \n$10.00 | SLA Full Member \nWalk-ins are not guaranteed a seat. \nQuestions? Contact Susan Freeman at southernloss@gmail.com
URL:https://southernloss.com/event/january-2024-luncheon/
LOCATION:Cabernet Steakhouse\, 5575 Windward Pkwy\, Alpharetta\, GA\, 30004\, United States
CATEGORIES:SLA Event
ORGANIZER;CN="Susan Freeman":MAILTO:southernloss@gmail.com
END:VEVENT
END:VCALENDAR