BEGIN:VCALENDAR
VERSION:2.0
PRODID:-//Southern Loss Association, Inc. - ECPv6.15.20//NONSGML v1.0//EN
CALSCALE:GREGORIAN
METHOD:PUBLISH
X-WR-CALNAME:Southern Loss Association, Inc.
X-ORIGINAL-URL:https://southernloss.com
X-WR-CALDESC:Events for Southern Loss Association, Inc.
REFRESH-INTERVAL;VALUE=DURATION:PT1H
X-Robots-Tag:noindex
X-PUBLISHED-TTL:PT1H
BEGIN:VTIMEZONE
TZID:America/New_York
BEGIN:DAYLIGHT
TZOFFSETFROM:-0500
TZOFFSETTO:-0400
TZNAME:EDT
DTSTART:20220313T070000
END:DAYLIGHT
BEGIN:STANDARD
TZOFFSETFROM:-0400
TZOFFSETTO:-0500
TZNAME:EST
DTSTART:20221106T060000
END:STANDARD
BEGIN:DAYLIGHT
TZOFFSETFROM:-0500
TZOFFSETTO:-0400
TZNAME:EDT
DTSTART:20230312T070000
END:DAYLIGHT
BEGIN:STANDARD
TZOFFSETFROM:-0400
TZOFFSETTO:-0500
TZNAME:EST
DTSTART:20231105T060000
END:STANDARD
BEGIN:DAYLIGHT
TZOFFSETFROM:-0500
TZOFFSETTO:-0400
TZNAME:EDT
DTSTART:20240310T070000
END:DAYLIGHT
BEGIN:STANDARD
TZOFFSETFROM:-0400
TZOFFSETTO:-0500
TZNAME:EST
DTSTART:20241103T060000
END:STANDARD
END:VTIMEZONE
BEGIN:VEVENT
DTSTART;TZID=America/New_York:20230914T113000
DTEND;TZID=America/New_York:20230914T130000
DTSTAMP:20260423T194040
CREATED:20230711T151057Z
LAST-MODIFIED:20230901T160915Z
UID:3200-1694691000-1694696400@southernloss.com
SUMMARY:September 2023 Luncheon
DESCRIPTION:Join the Southern Loss Association for our September 2023 Luncheon. \nErin Roberts\, PE\, CFM\, and Zach Krish\, PhD\, PE with JS Held\, LLC will present “Substantial Structural Damage vs. Substantial Damage\, and When They Apply?” \nRegistration opens at 11:00 am and lunch begins at 11:30 am. \nPlease register by Noon on Tuesday\, September 12\, 2023. \nRegister Now \nPayment is required at the time of registration. \n$35.00 | Non-Member/Sponsor\n$20.00 | SLA Associate Member\n$10.00 | SLA Full Member \nWalk-ins are not guaranteed a seat. \nQuestions? Contact Susan Freeman at southernloss@gmail.com
URL:https://southernloss.com/event/september-2023-luncheon/
LOCATION:Cabernet Steakhouse\, 5575 Windward Pkwy\, Alpharetta\, GA\, 30004\, United States
CATEGORIES:SLA Event
ORGANIZER;CN="Susan Freeman":MAILTO:southernloss@gmail.com
END:VEVENT
END:VCALENDAR