BEGIN:VCALENDAR
VERSION:2.0
PRODID:-//Southern Loss Association, Inc. - ECPv6.15.20//NONSGML v1.0//EN
CALSCALE:GREGORIAN
METHOD:PUBLISH
X-ORIGINAL-URL:https://southernloss.com
X-WR-CALDESC:Events for Southern Loss Association, Inc.
REFRESH-INTERVAL;VALUE=DURATION:PT1H
X-Robots-Tag:noindex
X-PUBLISHED-TTL:PT1H
BEGIN:VTIMEZONE
TZID:America/New_York
BEGIN:DAYLIGHT
TZOFFSETFROM:-0500
TZOFFSETTO:-0400
TZNAME:EDT
DTSTART:20210314T070000
END:DAYLIGHT
BEGIN:STANDARD
TZOFFSETFROM:-0400
TZOFFSETTO:-0500
TZNAME:EST
DTSTART:20211107T060000
END:STANDARD
BEGIN:DAYLIGHT
TZOFFSETFROM:-0500
TZOFFSETTO:-0400
TZNAME:EDT
DTSTART:20220313T070000
END:DAYLIGHT
BEGIN:STANDARD
TZOFFSETFROM:-0400
TZOFFSETTO:-0500
TZNAME:EST
DTSTART:20221106T060000
END:STANDARD
BEGIN:DAYLIGHT
TZOFFSETFROM:-0500
TZOFFSETTO:-0400
TZNAME:EDT
DTSTART:20230312T070000
END:DAYLIGHT
BEGIN:STANDARD
TZOFFSETFROM:-0400
TZOFFSETTO:-0500
TZNAME:EST
DTSTART:20231105T060000
END:STANDARD
END:VTIMEZONE
BEGIN:VEVENT
DTSTART;TZID=America/New_York:20220310T110000
DTEND;TZID=America/New_York:20220310T130000
DTSTAMP:20260424T215605
CREATED:20211201T162938Z
LAST-MODIFIED:20220301T213838Z
UID:2662-1646910000-1646917200@southernloss.com
SUMMARY:March 2022 Luncheon
DESCRIPTION:The Southern Loss Association cordially invites you to attend our March Luncheon on Thursday\, March 10\, 2022\, at the Cabernet Steakhouse Restaurant. \nOur speaker will be Todd Soong\, CFI with Nefco Fire Investigations.  \nThe title of his presentation is”NFPA 921 – and The Impact on your Fire Claim” \nRegistration opens at 11:00 am and lunch begins at 11:30 am. \nPlease make your reservations by noon on Tuesday\, March 8\, 2021 \nPlease note that payment is required at the time of registration.  \nWalk-ins are not guaranteed a seat. \nRegister Now! Decline \nWe hope to see you at the luncheon!
URL:https://southernloss.com/event/march-2022-luncheon/
LOCATION:Cabernet Steakhouse\, 5575 Windward Pkwy\, Alpharetta\, GA\, 30004\, United States
CATEGORIES:SLA Event
ORGANIZER;CN="Susan Freeman":MAILTO:southernloss@gmail.com
END:VEVENT
END:VCALENDAR