BEGIN:VCALENDAR
VERSION:2.0
PRODID:-//Southern Loss Association, Inc. - ECPv6.15.20//NONSGML v1.0//EN
CALSCALE:GREGORIAN
METHOD:PUBLISH
X-ORIGINAL-URL:https://southernloss.com
X-WR-CALDESC:Events for Southern Loss Association, Inc.
REFRESH-INTERVAL;VALUE=DURATION:PT1H
X-Robots-Tag:noindex
X-PUBLISHED-TTL:PT1H
BEGIN:VTIMEZONE
TZID:America/New_York
BEGIN:DAYLIGHT
TZOFFSETFROM:-0500
TZOFFSETTO:-0400
TZNAME:EDT
DTSTART:20210314T070000
END:DAYLIGHT
BEGIN:STANDARD
TZOFFSETFROM:-0400
TZOFFSETTO:-0500
TZNAME:EST
DTSTART:20211107T060000
END:STANDARD
BEGIN:DAYLIGHT
TZOFFSETFROM:-0500
TZOFFSETTO:-0400
TZNAME:EDT
DTSTART:20220313T070000
END:DAYLIGHT
BEGIN:STANDARD
TZOFFSETFROM:-0400
TZOFFSETTO:-0500
TZNAME:EST
DTSTART:20221106T060000
END:STANDARD
BEGIN:DAYLIGHT
TZOFFSETFROM:-0500
TZOFFSETTO:-0400
TZNAME:EDT
DTSTART:20230312T070000
END:DAYLIGHT
BEGIN:STANDARD
TZOFFSETFROM:-0400
TZOFFSETTO:-0500
TZNAME:EST
DTSTART:20231105T060000
END:STANDARD
END:VTIMEZONE
BEGIN:VEVENT
DTSTART;TZID=America/New_York:20220210T110000
DTEND;TZID=America/New_York:20220210T130000
DTSTAMP:20260424T233137
CREATED:20211201T162719Z
LAST-MODIFIED:20220131T164247Z
UID:2660-1644490800-1644498000@southernloss.com
SUMMARY:February 2022 Luncheon
DESCRIPTION:The Southern Loss Association cordially invites you to attend our February Luncheon on Thursday\, February 10\, 2022\, at the Cabernet Steakhouse Restaurant. \nOur speakers this month will be David Grindley and Jon Williams with Grindley Williams Engineering. \nThe title of their presentation is “A Deep Dive – Shingle Roofing” \nThis course is approved for 1 hour of GA\, AL\, FL\, MS\, LA\, and TX Continuing Education credit. \nRegistration opens at 11:00 am and lunch begins at 11:30 am. \nPlease make your reservations by noon on Tuesday\, February 8\, 2021 \nRegister Now! Decline \nPlease note that payment is required at the time of registration. Walk-ins are not guaranteed a seat. \nWe hope to see you at the luncheon!
URL:https://southernloss.com/event/february-2022-luncheon/
LOCATION:Cabernet Steakhouse\, 5575 Windward Pkwy\, Alpharetta\, GA\, 30004\, United States
CATEGORIES:SLA Event
ORGANIZER;CN="Susan Freeman":MAILTO:southernloss@gmail.com
END:VEVENT
END:VCALENDAR