BEGIN:VCALENDAR
VERSION:2.0
PRODID:-//Southern Loss Association, Inc. - ECPv6.15.20//NONSGML v1.0//EN
CALSCALE:GREGORIAN
METHOD:PUBLISH
X-ORIGINAL-URL:https://southernloss.com
X-WR-CALDESC:Events for Southern Loss Association, Inc.
REFRESH-INTERVAL;VALUE=DURATION:PT1H
X-Robots-Tag:noindex
X-PUBLISHED-TTL:PT1H
BEGIN:VTIMEZONE
TZID:America/New_York
BEGIN:DAYLIGHT
TZOFFSETFROM:-0500
TZOFFSETTO:-0400
TZNAME:EDT
DTSTART:20200308T070000
END:DAYLIGHT
BEGIN:STANDARD
TZOFFSETFROM:-0400
TZOFFSETTO:-0500
TZNAME:EST
DTSTART:20201101T060000
END:STANDARD
BEGIN:DAYLIGHT
TZOFFSETFROM:-0500
TZOFFSETTO:-0400
TZNAME:EDT
DTSTART:20210314T070000
END:DAYLIGHT
BEGIN:STANDARD
TZOFFSETFROM:-0400
TZOFFSETTO:-0500
TZNAME:EST
DTSTART:20211107T060000
END:STANDARD
BEGIN:DAYLIGHT
TZOFFSETFROM:-0500
TZOFFSETTO:-0400
TZNAME:EDT
DTSTART:20220313T070000
END:DAYLIGHT
BEGIN:STANDARD
TZOFFSETFROM:-0400
TZOFFSETTO:-0500
TZNAME:EST
DTSTART:20221106T060000
END:STANDARD
END:VTIMEZONE
BEGIN:VEVENT
DTSTART;TZID=America/New_York:20210708T110000
DTEND;TZID=America/New_York:20210708T130000
DTSTAMP:20260425T093422
CREATED:20210510T192726Z
LAST-MODIFIED:20210630T204240Z
UID:2315-1625742000-1625749200@southernloss.com
SUMMARY:July 2021 Luncheon
DESCRIPTION:Join the Southern Loss Association for our July 2021 Luncheon. \nRegistration opens at 11:00 am and lunch begins at 11:30 am. \nOur speakers this month will be Dan Vines\, Billy Benzur\, and Doug Gingrey with EFI Global.  The title of their presentation is: “Windows and Doors – Sorting out the Issues”This course is approved for 1 hour of GA CE credit. \nPlease register by Noon on Tuesday\, July 6\, 2021. \nRegister Now! Decline \nPLEASE NOTE: We are experiencing connectivity issues with Paypal and the system may not accept your payment. If you receive an error message when submitting the online registration form\, please trust that we have received your registration. If your payment does not go through\, Susan Freeman will call you to collect the payment. If you are uncomfortable providing payment information over the phone\, we will be accepting payment at the door as well. \n$35.00 | Non-Member/Sponsor\n$20.00 | SLA Associate Member\n$10.00 | SLA Full Member \nWalk-ins are not guaranteed a seat. \nQuestions? Contact Susan Freeman at southernloss@gmail.com
URL:https://southernloss.com/event/july-2021-luncheon/
LOCATION:Cabernet Steakhouse\, 5575 Windward Pkwy\, Alpharetta\, GA\, 30004\, United States
CATEGORIES:SLA Event
ORGANIZER;CN="Susan Freeman":MAILTO:southernloss@gmail.com
END:VEVENT
END:VCALENDAR