BEGIN:VCALENDAR
VERSION:2.0
PRODID:-//Southern Loss Association, Inc. - ECPv6.15.20//NONSGML v1.0//EN
CALSCALE:GREGORIAN
METHOD:PUBLISH
X-WR-CALNAME:Southern Loss Association, Inc.
X-ORIGINAL-URL:https://southernloss.com
X-WR-CALDESC:Events for Southern Loss Association, Inc.
REFRESH-INTERVAL;VALUE=DURATION:PT1H
X-Robots-Tag:noindex
X-PUBLISHED-TTL:PT1H
BEGIN:VTIMEZONE
TZID:America/New_York
BEGIN:DAYLIGHT
TZOFFSETFROM:-0500
TZOFFSETTO:-0400
TZNAME:EDT
DTSTART:20200308T070000
END:DAYLIGHT
BEGIN:STANDARD
TZOFFSETFROM:-0400
TZOFFSETTO:-0500
TZNAME:EST
DTSTART:20201101T060000
END:STANDARD
BEGIN:DAYLIGHT
TZOFFSETFROM:-0500
TZOFFSETTO:-0400
TZNAME:EDT
DTSTART:20210314T070000
END:DAYLIGHT
BEGIN:STANDARD
TZOFFSETFROM:-0400
TZOFFSETTO:-0500
TZNAME:EST
DTSTART:20211107T060000
END:STANDARD
BEGIN:DAYLIGHT
TZOFFSETFROM:-0500
TZOFFSETTO:-0400
TZNAME:EDT
DTSTART:20220313T070000
END:DAYLIGHT
BEGIN:STANDARD
TZOFFSETFROM:-0400
TZOFFSETTO:-0500
TZNAME:EST
DTSTART:20221106T060000
END:STANDARD
END:VTIMEZONE
BEGIN:VEVENT
DTSTART;TZID=America/New_York:20210513T110000
DTEND;TZID=America/New_York:20210513T130000
DTSTAMP:20260422T190501
CREATED:20210208T202156Z
LAST-MODIFIED:20210510T192527Z
UID:2235-1620903600-1620910800@southernloss.com
SUMMARY:May 2021 Luncheon
DESCRIPTION:Join the Southern Loss Association for our May 2021 Luncheon to hear Terry Sutton with Stephens Engineering Consultants\, Inc. The title of his presentation will be “Intro to Insurance Ethics.” This course is approved for 1 hour of GA\, AL\, FL\, NC and TX ethics CE credit. \nRegistration opens at 11:00 am and lunch begins at 11:30 am. \nPlease register by Noon on Tuesday\, May 11\, 2021. \nRegister Now! Decline \nPayment is required at the time of registration. \n$35.00 | Non-Member/Sponsor\n$20.00 | SLA Associate Member\n$10.00 | SLA Full Member \nWalk-ins are not guaranteed a seat. \nQuestions? Contact Susan Freeman at southernloss@gmail.com
URL:https://southernloss.com/event/may-2021-luncheon/
LOCATION:Cabernet Steakhouse\, 5575 Windward Pkwy\, Alpharetta\, GA\, 30004\, United States
CATEGORIES:SLA Event
ORGANIZER;CN="Susan Freeman":MAILTO:southernloss@gmail.com
END:VEVENT
BEGIN:VEVENT
DTSTART;TZID=America/New_York:20210422T113000
DTEND;TZID=America/New_York:20210422T200000
DTSTAMP:20260422T190501
CREATED:20210112T204349Z
LAST-MODIFIED:20210308T234440Z
UID:2134-1619091000-1619121600@southernloss.com
SUMMARY:2021 Larry Hart Memorial Spring Golf and Cornhole Outing
DESCRIPTION:Join the Southern Loss Association for our 2021 Larry Hart Memorial Spring Golf and Cornhole Outing! \nWe will fill the Chateau and Woodlands Courses. \nGolf begins at 11:30 AM –  Cornhole begins at 1:00 PM – Dinner at 6:00 PM \nSLA set a record this year – we sold out all the golf spots in one week! \nWe invite you to join us for cornhole and dinner. \n$75.00 | Cornhole (Includes Dinner)\n$50.00 | Dinner Only (per person) \nFeel free to bring your spouse or another guest. Cocktails will be served from 5:00 PM until dinner\, which begins at 6:00 PM at the Driving Range. Awards and prizes will be presented immediately after dinner. \nRegister Now! \nInterested in sponsoring? Be seen at one of the biggest industry golf events of the year. Several sponsorships are still available. \nSponsor Registration \nPayment is required at time of registration. \nQuestions? Contact Susan Freeman at southernloss@gmail.com
URL:https://southernloss.com/event/2021-larry-hart-memorial-spring-golf-and-cornhole-outing/
LOCATION:Chateau Elan Resort\, 6060 Golf Club Drive\, Braselton\, GA\, 30517\, United States
CATEGORIES:SLA Event
ORGANIZER;CN="Susan Freeman":MAILTO:southernloss@gmail.com
END:VEVENT
BEGIN:VEVENT
DTSTART;VALUE=DATE:20210422
DTEND;VALUE=DATE:20210423
DTSTAMP:20260422T190501
CREATED:20210205T222255Z
LAST-MODIFIED:20210206T001116Z
UID:2216-1619049600-1619135999@southernloss.com
SUMMARY:SLA Spring 2021 Golf/Cornhole Sponsorship
DESCRIPTION:Be a Sponsor of the Southern Loss Association for our 2021 SLA Spring Golf and Cornhole Outing! \nRegister to be a Sponsor Now! \nPayment is required at time of registration. \n$375.00 | Hole Sponsorship With Someone Sitting At The Hole\n$375.00 | Hole Sponsorship Without Someone Sitting At The Hole\n$125.00 | Closest-To-Pin Sponsorship\n$125.00 | Longest Drive Sponsorship\n$100.00 | Cornhole Sponsorship Fee – You need to provide your company logo boards\n $75.00 | Cornhole Prize Sponsorship\n $50.00 | Dinner Only \nQuestions? Contact Susan Freeman at southernloss@gmail.com
URL:https://southernloss.com/event/sla-spring-2021-golf-cornhole-sponsorship/
LOCATION:Chateau Elan Resort\, 6060 Golf Club Drive\, Braselton\, GA\, 30517\, United States
CATEGORIES:SLA Event
ORGANIZER;CN="Susan Freeman":MAILTO:southernloss@gmail.com
END:VEVENT
BEGIN:VEVENT
DTSTART;TZID=America/New_York:20210311T110000
DTEND;TZID=America/New_York:20210311T130000
DTSTAMP:20260422T190501
CREATED:20210112T204235Z
LAST-MODIFIED:20210302T151309Z
UID:2132-1615460400-1615467600@southernloss.com
SUMMARY:March 2021 Luncheon
DESCRIPTION:Join the Southern Loss Association for our March 2021 Luncheon to hear Nick Travis and Ramy Elmasri with Clausen Miller speak about “Public Adjusters\, Proofs of Loss\, and Policy Misrepresentation in Florida.” This course is approved for 1 hour of GA CE credit. \nRegistration opens at 11:00 am and lunch begins at 11:30 am. \nPlease register by Noon on Tuesday\, March 9\, 2021. \nRegister Now! I can’t make it \nPayment is required at time of registration. \n$35.00 | Non-Member/Sponsor\n$20.00 | SLA Associate Member\n$10.00 | SLA Full Member \nWalk-ins are not guaranteed a seat. \nQuestions? Contact Susan Freeman at southernloss@gmail.com
URL:https://southernloss.com/event/march-2021-luncheon/
LOCATION:Cabernet Steakhouse\, 5575 Windward Pkwy\, Alpharetta\, GA\, 30004\, United States
CATEGORIES:SLA Event
ORGANIZER;CN="Susan Freeman":MAILTO:southernloss@gmail.com
END:VEVENT
BEGIN:VEVENT
DTSTART;TZID=America/New_York:20210211T110000
DTEND;TZID=America/New_York:20210211T130000
DTSTAMP:20260422T190501
CREATED:20210112T204147Z
LAST-MODIFIED:20210205T220121Z
UID:2130-1613041200-1613048400@southernloss.com
SUMMARY:February 2021 Luncheon
DESCRIPTION:Join the Southern Loss Association for our February 2021 Luncheon to hear Jorge Flores\, PE with SEA\, Limited speak about “Engineering Evaluation of Asphalt Shingle Roofs.” This course is approved for 1 hour of GA CE credit. \nRegistration opens at 11:00 am and lunch begins at 11:30 am. \nPlease register by Noon on Tuesday\, January 9\, 2021. \nRegister Now! I can’t make it \nPayment is required at time of registration. \n$35.00 | Non-Member/Sponsor\n$20.00 | SLA Associate Member\n$10.00 | SLA Full Member \nWalk-ins are not guaranteed a seat. \nQuestions? Contact Susan Freeman at southernloss@gmail.com
URL:https://southernloss.com/event/february-2021-luncheon/
LOCATION:Cabernet Steakhouse\, 5575 Windward Pkwy\, Alpharetta\, GA\, 30004\, United States
CATEGORIES:SLA Event
ORGANIZER;CN="Susan Freeman":MAILTO:southernloss@gmail.com
END:VEVENT
BEGIN:VEVENT
DTSTART;TZID=America/New_York:20210114T110000
DTEND;TZID=America/New_York:20210114T130000
DTSTAMP:20260422T190501
CREATED:20210106T005202Z
LAST-MODIFIED:20210112T203608Z
UID:2107-1610622000-1610629200@southernloss.com
SUMMARY:January 2021 Lunch Meeting | SOLD OUT
DESCRIPTION:The Southern Loss Association cordially invites you to attend our January Luncheon on Thursday\, January 14\, 2020 at the Cabernet Steakhouse Restaurant. \nRegistration opens at 11:00 am and lunch begins at 11:30 am. \nDeadline is quickly approaching! Please make your reservations by noon on Tuesday\, January 12\, 2020. \nOur speaker this month will be Jennifer Morningstar\, BSCh\, P.E.\, CFEI\, with Warren Forensic Engineers & Consultants. The title of her presentation: “Property Claim Issues at Manufacturing Facilities” \n \nThis course is approved for 1 hour of GA CE credit \nSEATS ARE LIMITED – SIGN UP TODAY!! \nPlease note that payment is required at time of registration. Walk-ins are not guaranteed a seat. \nGet more information \nRegister Now! \nI can’t make it \nThank you and we hope to see you at the luncheon!
URL:https://southernloss.com/event/january-2021-lunch-meeting/
LOCATION:Cabernet Steakhouse\, 5575 Windward Pkwy\, Alpharetta\, GA\, 30004\, United States
CATEGORIES:SLA Event
ORGANIZER;CN="Susan Freeman":MAILTO:southernloss@gmail.com
END:VEVENT
END:VCALENDAR