BEGIN:VCALENDAR
VERSION:2.0
PRODID:-//Southern Loss Association, Inc. - ECPv6.15.20//NONSGML v1.0//EN
CALSCALE:GREGORIAN
METHOD:PUBLISH
X-WR-CALNAME:Southern Loss Association, Inc.
X-ORIGINAL-URL:https://southernloss.com
X-WR-CALDESC:Events for Southern Loss Association, Inc.
REFRESH-INTERVAL;VALUE=DURATION:PT1H
X-Robots-Tag:noindex
X-PUBLISHED-TTL:PT1H
BEGIN:VTIMEZONE
TZID:America/New_York
BEGIN:DAYLIGHT
TZOFFSETFROM:-0500
TZOFFSETTO:-0400
TZNAME:EDT
DTSTART:20250309T070000
END:DAYLIGHT
BEGIN:STANDARD
TZOFFSETFROM:-0400
TZOFFSETTO:-0500
TZNAME:EST
DTSTART:20251102T060000
END:STANDARD
BEGIN:DAYLIGHT
TZOFFSETFROM:-0500
TZOFFSETTO:-0400
TZNAME:EDT
DTSTART:20260308T070000
END:DAYLIGHT
BEGIN:STANDARD
TZOFFSETFROM:-0400
TZOFFSETTO:-0500
TZNAME:EST
DTSTART:20261101T060000
END:STANDARD
BEGIN:DAYLIGHT
TZOFFSETFROM:-0500
TZOFFSETTO:-0400
TZNAME:EDT
DTSTART:20270314T070000
END:DAYLIGHT
BEGIN:STANDARD
TZOFFSETFROM:-0400
TZOFFSETTO:-0500
TZNAME:EST
DTSTART:20271107T060000
END:STANDARD
END:VTIMEZONE
BEGIN:VEVENT
DTSTART;TZID=America/New_York:20260108T110000
DTEND;TZID=America/New_York:20260108T130000
DTSTAMP:20260420T012640
CREATED:20251017T142332Z
LAST-MODIFIED:20251230T231043Z
UID:3865-1767870000-1767877200@southernloss.com
SUMMARY:January 2026 Luncheon
DESCRIPTION:Join the Southern Loss Association for our January 8\, 2026 Luncheon. \nOur speaker this month will be Alex Mavrelis\, CIH\, CSP\, LAC (FL)\, CHMM\, CIEC\, NRPP\, with TRC Companies\, Inc. \nThe title of the presentation is: \n“Best Practices of Water and Mold Damage Assessment” \nThe presentation will qualify for one hour of CE credit for GA and FL. \nTRC Companies\, Inc.\, is graciously sponsoring the lunch. \nRegistration opens at 11:00 am\, and lunch begins at 11:30 am. \nPlease register early as seating is limited. Registration will close on Tuesday\, \nJanuary 6\, 2026. \nRegister Here! \nPayment is required at the time of registration. \n$35.00 | Non-Member/Sponsor\n$20.00 | SLA Associate Member\n$10.00 | SLA Full Member \nWalk-ins are not guaranteed a seat. \nQuestions? Contact Susan Freeman at southernloss@gmail.com
URL:https://southernloss.com/event/january-2026-luncheon/
LOCATION:Cabernet Steakhouse\, 5575 Windward Pkwy\, Alpharetta\, GA\, 30004\, United States
CATEGORIES:SLA Event
ORGANIZER;CN="Susan Freeman":MAILTO:southernloss@gmail.com
END:VEVENT
END:VCALENDAR