BEGIN:VCALENDAR
VERSION:2.0
PRODID:-//Southern Loss Association, Inc. - ECPv6.15.20//NONSGML v1.0//EN
CALSCALE:GREGORIAN
METHOD:PUBLISH
X-WR-CALNAME:Southern Loss Association, Inc.
X-ORIGINAL-URL:https://southernloss.com
X-WR-CALDESC:Events for Southern Loss Association, Inc.
REFRESH-INTERVAL;VALUE=DURATION:PT1H
X-Robots-Tag:noindex
X-PUBLISHED-TTL:PT1H
BEGIN:VTIMEZONE
TZID:America/New_York
BEGIN:DAYLIGHT
TZOFFSETFROM:-0500
TZOFFSETTO:-0400
TZNAME:EDT
DTSTART:20240310T070000
END:DAYLIGHT
BEGIN:STANDARD
TZOFFSETFROM:-0400
TZOFFSETTO:-0500
TZNAME:EST
DTSTART:20241103T060000
END:STANDARD
BEGIN:DAYLIGHT
TZOFFSETFROM:-0500
TZOFFSETTO:-0400
TZNAME:EDT
DTSTART:20250309T070000
END:DAYLIGHT
BEGIN:STANDARD
TZOFFSETFROM:-0400
TZOFFSETTO:-0500
TZNAME:EST
DTSTART:20251102T060000
END:STANDARD
BEGIN:DAYLIGHT
TZOFFSETFROM:-0500
TZOFFSETTO:-0400
TZNAME:EDT
DTSTART:20260308T070000
END:DAYLIGHT
BEGIN:STANDARD
TZOFFSETFROM:-0400
TZOFFSETTO:-0500
TZNAME:EST
DTSTART:20261101T060000
END:STANDARD
END:VTIMEZONE
BEGIN:VEVENT
DTSTART;TZID=America/New_York:20251016T113000
DTEND;TZID=America/New_York:20251016T200000
DTSTAMP:20260422T060328
CREATED:20250731T120314Z
LAST-MODIFIED:20250819T150759Z
UID:3807-1760614200-1760644800@southernloss.com
SUMMARY:2025 Fall Golf and Cornhole Outing
DESCRIPTION:Join us for the Southern Loss Association Fall 2025 Golf and Cornhole Outing \nChateau Elan Golf Club House\n6060 Golf Club Drive\, Braselton\, Georgia 30517\n(Golf Sponsorship\, Cornhole Sponsorship\, and Dinner)\n678-425-0900 \nWe recommended golfers be at the Chateau Elan Golf Club House at 10:00 a.m. to allow time for registration. Cornhole registration is at 12:00 p.m. behind the pro shop. \n  \nGolf begins at 11:30 a.m. \nCornhole begins at 1:00 p.m.  \nDinner at 6:00 p.m. \n  \nFees are as follows: \n   \n  Golf & Dinner         $160.00      \nCornhole & Dinner     $85.00 \n Dinner (per person)    $55.00 \n  \nPlease feel free to register your spouse or another guest. Cocktails will be served from 5:00 p.m. until dinner at 6:00 p.m. at the driving range. Awards and prizes will be presented immediately after dinner. \n  \nATTENTION GOLFERS – Four Person Scramble Format will be used for the Fall Golf Tournament. Registration will only be accepted with payment. To register a foursome\, sign up with the main contact for the team\, list TBD for unknown golfer names\, and PAY for all four golfers to secure your team.  \n  \nPLEASE NOTE NO COMPANY MAY REGISTER THREE OR MORE TEAMS UNLESS THE COMPANY ALSO PURCHASES A SPONSORSHIP VALUED AT $350.00 OR MORE FOR THIS TOURNAMENT. REGISTRATION IS LIMITED TO NO MORE THAN FOUR TEAMS TOTAL AND NO COMPANY CAN HAVE MORE THAN 4 TEAMS TOTAL. \n  \nGOLF REGISTRATIONS WILL ONLY BE ACCEPTED WITH PAYMENT. SPACE IS LIMITED\, SO SIGN UP TODAY!! \n  \nNO TEAMS ARE HELD WITHOUT PAYMENT. \n  \nALL payments can be processed through PayPal at the time of registration.  \n  \nGolf and Dinner Registration: \n  Susan Freeman \n  Phone 678-449-8416   \n  email: sfreeman@haagglobal.com  \n  \nCornhole Registration information contact: \n  Vance Dawson @ (470) 774-1136 \n  vance.dawson@act.claims
URL:https://southernloss.com/event/2025-fall-golf-and-cornhole-outing/
LOCATION:Chateau Elan Resort\, 6060 Golf Club Drive\, Braselton\, GA\, 30517\, United States
CATEGORIES:SLA Event
ORGANIZER;CN="Susan Freeman":MAILTO:southernloss@gmail.com
END:VEVENT
END:VCALENDAR