BEGIN:VCALENDAR
VERSION:2.0
PRODID:-//Southern Loss Association, Inc. - ECPv6.15.20//NONSGML v1.0//EN
CALSCALE:GREGORIAN
METHOD:PUBLISH
X-ORIGINAL-URL:https://southernloss.com
X-WR-CALDESC:Events for Southern Loss Association, Inc.
REFRESH-INTERVAL;VALUE=DURATION:PT1H
X-Robots-Tag:noindex
X-PUBLISHED-TTL:PT1H
BEGIN:VTIMEZONE
TZID:America/New_York
BEGIN:DAYLIGHT
TZOFFSETFROM:-0500
TZOFFSETTO:-0400
TZNAME:EDT
DTSTART:20230312T070000
END:DAYLIGHT
BEGIN:STANDARD
TZOFFSETFROM:-0400
TZOFFSETTO:-0500
TZNAME:EST
DTSTART:20231105T060000
END:STANDARD
BEGIN:DAYLIGHT
TZOFFSETFROM:-0500
TZOFFSETTO:-0400
TZNAME:EDT
DTSTART:20240310T070000
END:DAYLIGHT
BEGIN:STANDARD
TZOFFSETFROM:-0400
TZOFFSETTO:-0500
TZNAME:EST
DTSTART:20241103T060000
END:STANDARD
BEGIN:DAYLIGHT
TZOFFSETFROM:-0500
TZOFFSETTO:-0400
TZNAME:EDT
DTSTART:20250309T070000
END:DAYLIGHT
BEGIN:STANDARD
TZOFFSETFROM:-0400
TZOFFSETTO:-0500
TZNAME:EST
DTSTART:20251102T060000
END:STANDARD
END:VTIMEZONE
BEGIN:VEVENT
DTSTART;TZID=America/New_York:20241212T110000
DTEND;TZID=America/New_York:20241212T130000
DTSTAMP:20260422T205426
CREATED:20240914T144948Z
LAST-MODIFIED:20241203T125259Z
UID:3584-1734001200-1734008400@southernloss.com
SUMMARY:December 2024 Luncheon
DESCRIPTION:Join the Southern Loss Association for our December 12\, 2024 Luncheon. \nScholarship awards will be presented to our winners\, and the incoming Board of Directors for 2025 will be introduced. \nThe charities being honored this year will be The Salvation Army and Shriner’s Children’s Hospital. \nJoin in the fun of our traditional holiday sock\, tie\, and sweater contest to win a prize. \nRegistration opens at 11:00 am\, and lunch begins at 11:30 am. \nPlease register by Noon on Tuesday\, December 10\, 2024. \nRegister Now! \nPayment is required at the time of registration. \n$35.00 | Non-Member/Sponsor\n$20.00 | SLA Associate Member\n$10.00 | SLA Full Member \nWalk-ins are not guaranteed a seat. \nQuestions? Contact Susan Freeman at southernloss@gmail.com
URL:https://southernloss.com/event/december-2024-luncheon/
LOCATION:Cabernet Steakhouse\, 5575 Windward Pkwy\, Alpharetta\, GA\, 30004\, United States
CATEGORIES:SLA Event
ORGANIZER;CN="Susan Freeman":MAILTO:southernloss@gmail.com
END:VEVENT
END:VCALENDAR