BEGIN:VCALENDAR
VERSION:2.0
PRODID:-//Southern Loss Association, Inc. - ECPv6.15.20//NONSGML v1.0//EN
CALSCALE:GREGORIAN
METHOD:PUBLISH
X-ORIGINAL-URL:https://southernloss.com
X-WR-CALDESC:Events for Southern Loss Association, Inc.
REFRESH-INTERVAL;VALUE=DURATION:PT1H
X-Robots-Tag:noindex
X-PUBLISHED-TTL:PT1H
BEGIN:VTIMEZONE
TZID:America/New_York
BEGIN:DAYLIGHT
TZOFFSETFROM:-0500
TZOFFSETTO:-0400
TZNAME:EDT
DTSTART:20230312T070000
END:DAYLIGHT
BEGIN:STANDARD
TZOFFSETFROM:-0400
TZOFFSETTO:-0500
TZNAME:EST
DTSTART:20231105T060000
END:STANDARD
BEGIN:DAYLIGHT
TZOFFSETFROM:-0500
TZOFFSETTO:-0400
TZNAME:EDT
DTSTART:20240310T070000
END:DAYLIGHT
BEGIN:STANDARD
TZOFFSETFROM:-0400
TZOFFSETTO:-0500
TZNAME:EST
DTSTART:20241103T060000
END:STANDARD
BEGIN:DAYLIGHT
TZOFFSETFROM:-0500
TZOFFSETTO:-0400
TZNAME:EDT
DTSTART:20250309T070000
END:DAYLIGHT
BEGIN:STANDARD
TZOFFSETFROM:-0400
TZOFFSETTO:-0500
TZNAME:EST
DTSTART:20251102T060000
END:STANDARD
END:VTIMEZONE
BEGIN:VEVENT
DTSTART;TZID=America/New_York:20240208T110000
DTEND;TZID=America/New_York:20240208T110000
DTSTAMP:20260423T122304
CREATED:20231205T150245Z
LAST-MODIFIED:20240125T174007Z
UID:3316-1707390000-1707390000@southernloss.com
SUMMARY:February 2024 Luncheon
DESCRIPTION:The Southern Loss Association cordially invites you to attend our February Luncheon on Thursday\, February 8\, 2024\, at the Cabernet Steakhouse Restaurant. \nDavid Grindley\, MCE\, PE with Grindley Williams Engineering will present “A Deep Dive – Shingle Roofing.” \nRegistration opens at 11:00 am and lunch begins at 11:30 am. \nPayment is required at the time of registration. \n$35.00 | Non-Member/Sponsor \n$20.00 | SLA Associate Member \n$10.00 | SLA Full Member \nWalk-ins are not guaranteed a seat. \nRegister Now! \nQuestions? Contact Susan Freeman at southernloss@gmail.com
URL:https://southernloss.com/event/february-2024-luncheon/
LOCATION:Cabernet Steakhouse\, 5575 Windward Pkwy\, Alpharetta\, GA\, 30004\, United States
CATEGORIES:SLA Event
ORGANIZER;CN="Susan Freeman":MAILTO:southernloss@gmail.com
END:VEVENT
END:VCALENDAR